 BEGIN:VCALENDAR
VERSION:2.0
PRODID:-//eventon.com NONSGML v1.0//EN
CALSCALE:GREGORIAN
METHOD:PUBLISH
BEGIN:VEVENT
UID:69e650fb989bb
DTSTAMP:20260420T161451Z
DTSTART:20240223T153000Z
DTEND:20240225T150000Z
LOCATION:
SUMMARY:Skiweekend Intercerlce
DESCRIPTION:Skiweekend Intercerlce\nhttps://acel.lu/events/skiweekend-inter
 cerlce/
URL:https://acel.lu/events/skiweekend-intercerlce/
END:VEVENT
END:VCALENDAR