 BEGIN:VCALENDAR
VERSION:2.0
PRODID:-//eventon.com NONSGML v1.0//EN
CALSCALE:GREGORIAN
METHOD:PUBLISH
BEGIN:VEVENT
UID:69e602c12ba2a
DTSTAMP:20260420T104105Z
DTSTART:20240323T090000Z
DTEND:20240323T110000Z
LOCATION:
SUMMARY:Route du Vin
DESCRIPTION:Route du Vin\nhttps://acel.lu/events/route-du-vin-2/
URL:https://acel.lu/events/route-du-vin-2/
END:VEVENT
END:VCALENDAR