 BEGIN:VCALENDAR
VERSION:2.0
PRODID:-//eventon.com NONSGML v1.0//EN
CALSCALE:GREGORIAN
METHOD:PUBLISH
BEGIN:VEVENT
UID:69e75f6d8454b
DTSTAMP:20260421T112845Z
DTSTART:20260501T100000Z
DTEND:20260503T100000Z
LOCATION:Bonn
SUMMARY:Rhein in Flammen
DESCRIPTION:TBA\nhttps://acel.lu/events/rhein-in-flammen/
URL:https://acel.lu/events/rhein-in-flammen/
END:VEVENT
END:VCALENDAR