 BEGIN:VCALENDAR
VERSION:2.0
PRODID:-//eventon.com NONSGML v1.0//EN
CALSCALE:GREGORIAN
METHOD:PUBLISH
BEGIN:VEVENT
UID:69e73329d65da
DTSTAMP:20260421T081953Z
DTSTART:20260626T080000Z
DTEND:20260626T200000Z
LOCATION:
SUMMARY:Vëlosheemrees
DESCRIPTION:Vëlosheemrees\nhttps://acel.lu/events/velosheemrees-4/
URL:https://acel.lu/events/velosheemrees-4/
END:VEVENT
END:VCALENDAR