 BEGIN:VCALENDAR
VERSION:2.0
PRODID:-//eventon.com NONSGML v1.0//EN
CALSCALE:GREGORIAN
METHOD:PUBLISH
BEGIN:VEVENT
UID:69e7487e1209c
DTSTAMP:20260421T095054Z
DTSTART:20260426T140000Z
DTEND:20260428T215900Z
LOCATION:
SUMMARY:Kingsday IC
DESCRIPTION:Kingsday IC\nhttps://acel.lu/events/kingsday-ic/
URL:https://acel.lu/events/kingsday-ic/
END:VEVENT
END:VCALENDAR