 BEGIN:VCALENDAR
VERSION:2.0
PRODID:-//eventon.com NONSGML v1.0//EN
CALSCALE:GREGORIAN
METHOD:PUBLISH
BEGIN:VEVENT
UID:69e747b3e3f13
DTSTAMP:20260421T094731Z
DTSTART:20260522T170000Z
DTEND:20260524T213000Z
LOCATION:
SUMMARY:Saufest
DESCRIPTION:Saufest\nhttps://acel.lu/events/saufest-4/
URL:https://acel.lu/events/saufest-4/
END:VEVENT
END:VCALENDAR